BEGIN:VCALENDAR
VERSION:2.0
PRODID:-//EGC Nexus Convening - ECPv6.15.17.1//NONSGML v1.0//EN
CALSCALE:GREGORIAN
METHOD:PUBLISH
X-ORIGINAL-URL:https://www.nexus.every1graduates.org
X-WR-CALDESC:Events for EGC Nexus Convening
REFRESH-INTERVAL;VALUE=DURATION:PT1H
X-Robots-Tag:noindex
X-PUBLISHED-TTL:PT1H
BEGIN:VTIMEZONE
TZID:America/New_York
BEGIN:DAYLIGHT
TZOFFSETFROM:-0500
TZOFFSETTO:-0400
TZNAME:EDT
DTSTART:20220313T070000
END:DAYLIGHT
BEGIN:STANDARD
TZOFFSETFROM:-0400
TZOFFSETTO:-0500
TZNAME:EST
DTSTART:20221106T060000
END:STANDARD
BEGIN:DAYLIGHT
TZOFFSETFROM:-0500
TZOFFSETTO:-0400
TZNAME:EDT
DTSTART:20230312T070000
END:DAYLIGHT
BEGIN:STANDARD
TZOFFSETFROM:-0400
TZOFFSETTO:-0500
TZNAME:EST
DTSTART:20231105T060000
END:STANDARD
BEGIN:DAYLIGHT
TZOFFSETFROM:-0500
TZOFFSETTO:-0400
TZNAME:EDT
DTSTART:20240310T070000
END:DAYLIGHT
BEGIN:STANDARD
TZOFFSETFROM:-0400
TZOFFSETTO:-0500
TZNAME:EST
DTSTART:20241103T060000
END:STANDARD
BEGIN:DAYLIGHT
TZOFFSETFROM:-0500
TZOFFSETTO:-0400
TZNAME:EDT
DTSTART:20250309T070000
END:DAYLIGHT
BEGIN:STANDARD
TZOFFSETFROM:-0400
TZOFFSETTO:-0500
TZNAME:EST
DTSTART:20251102T060000
END:STANDARD
BEGIN:DAYLIGHT
TZOFFSETFROM:-0500
TZOFFSETTO:-0400
TZNAME:EDT
DTSTART:20260308T070000
END:DAYLIGHT
BEGIN:STANDARD
TZOFFSETFROM:-0400
TZOFFSETTO:-0500
TZNAME:EST
DTSTART:20261101T060000
END:STANDARD
END:VTIMEZONE
BEGIN:VEVENT
DTSTART;VALUE=DATE:20250401
DTEND;VALUE=DATE:20250402
DTSTAMP:20260421T062656
CREATED:20230728T172548Z
LAST-MODIFIED:20241002T143112Z
UID:264-1743465600-1743551999@www.nexus.every1graduates.org
SUMMARY:2025 NATIONAL SCHOOL REDESIGN SHOWCASE
DESCRIPTION:The second annual National School Redesign Showcase will be held on April 1\, 2025 from 11am – 1pm at Johns Hopkins University’s Bloomberg Center at 555 Pennsylvania Avenue\, NW Washington\, DC\, 20001
URL:https://www.nexus.every1graduates.org/event/2024-national-school-redesign-showcase/
LOCATION:Johns Hopkins University (DC)\, 555 Pennsylvania Avenue NW\, Washington\, DC\, 20001\, United States
ORGANIZER;CN="Everyone Graduates Center":MAILTO:info@every1graduates.org
END:VEVENT
BEGIN:VEVENT
DTSTART;TZID=America/New_York:20250205T120000
DTEND;TZID=America/New_York:20250205T170000
DTSTAMP:20260421T062656
CREATED:20241002T142137Z
LAST-MODIFIED:20241002T142137Z
UID:709-1738756800-1738774800@www.nexus.every1graduates.org
SUMMARY:School Design Team Prototype Sharing Session
DESCRIPTION:Select a time below and click the link to register. Note the times below are EST. \n12pm Design Session \n2pm Design Session \n5pm Design Session
URL:https://www.nexus.every1graduates.org/event/school-design-team-prototype-sharing-session/
END:VEVENT
BEGIN:VEVENT
DTSTART;TZID=America/New_York:20241203T120000
DTEND;TZID=America/New_York:20241203T170000
DTSTAMP:20260421T062656
CREATED:20241002T141625Z
LAST-MODIFIED:20241002T141749Z
UID:706-1733227200-1733245200@www.nexus.every1graduates.org
SUMMARY:Focused Design Session 3
DESCRIPTION:Select a time below and click the link to register. Note the times below are EST. \n12pm Design Session \n2pm Design Session \n5pm Design Session
URL:https://www.nexus.every1graduates.org/event/focused-design-session-3/
END:VEVENT
BEGIN:VEVENT
DTSTART;TZID=America/New_York:20241113T120000
DTEND;TZID=America/New_York:20241113T170000
DTSTAMP:20260421T062656
CREATED:20241002T141440Z
LAST-MODIFIED:20241002T141440Z
UID:703-1731499200-1731517200@www.nexus.every1graduates.org
SUMMARY:Focused Design Session 2
DESCRIPTION:Select a time below and click the link to register. Note the times below are EST. \n12pm Design Session \n2pm Design Session \n5pm Design Session
URL:https://www.nexus.every1graduates.org/event/focused-design-session-2/
END:VEVENT
BEGIN:VEVENT
DTSTART;TZID=America/New_York:20241029T120000
DTEND;TZID=America/New_York:20241029T170000
DTSTAMP:20260421T062656
CREATED:20241002T141225Z
LAST-MODIFIED:20241002T141502Z
UID:701-1730203200-1730221200@www.nexus.every1graduates.org
SUMMARY:Focused Design Session 1
DESCRIPTION:Select a time below and click the link to register. Note the times below are EST. \n12pm Design Session \n2pm Design Session \n5pm Design Session
URL:https://www.nexus.every1graduates.org/event/focused-design-session-1/
END:VEVENT
BEGIN:VEVENT
DTSTART;TZID=America/New_York:20240206T190000
DTEND;TZID=America/New_York:20240206T190000
DTSTAMP:20260421T062656
CREATED:20231205T160355Z
LAST-MODIFIED:20231214T174924Z
UID:524-1707246000-1707246000@www.nexus.every1graduates.org
SUMMARY:ABC\, feedback session
DESCRIPTION:Register in advance for this meeting:https://zoom.us/meeting/register/tJIscOivqDIqG9LrCx-cj4rSMrkNLKcH50kI \nAfter registering\, you will receive a confirmation email containing information about joining the meeting.
URL:https://www.nexus.every1graduates.org/event/national-redesign-showcase-team-sharing/
END:VEVENT
BEGIN:VEVENT
DTSTART;TZID=America/New_York:20240206T150000
DTEND;TZID=America/New_York:20240206T163000
DTSTAMP:20260421T062656
CREATED:20230728T172320Z
LAST-MODIFIED:20230728T172320Z
UID:262-1707231600-1707237000@www.nexus.every1graduates.org
SUMMARY:Connectedness\, feedback session
DESCRIPTION:Register Here: https://zoom.us/meeting/register/tJIqdu2grDsjHt37MsDpQoGnTEmnyzNlVUW7
URL:https://www.nexus.every1graduates.org/event/connectedness-feedback-session/
CATEGORIES:Connectedness
ORGANIZER;CN="Everyone Graduates Center":MAILTO:info@every1graduates.org
END:VEVENT
BEGIN:VEVENT
DTSTART;TZID=America/New_York:20240206T130000
DTEND;TZID=America/New_York:20240206T143000
DTSTAMP:20260421T062656
CREATED:20230728T172223Z
LAST-MODIFIED:20230728T172223Z
UID:260-1707224400-1707229800@www.nexus.every1graduates.org
SUMMARY:Belonging\, feedback session
DESCRIPTION:Register Here: https://zoom.us/meeting/register/tJEocOurpz8pG9G-cA-W_5Olb2pdTmVTBHAe
URL:https://www.nexus.every1graduates.org/event/belonging-feedback-session/
CATEGORIES:Belonging
ORGANIZER;CN="Everyone Graduates Center":MAILTO:info@every1graduates.org
END:VEVENT
BEGIN:VEVENT
DTSTART;TZID=America/New_York:20240206T110000
DTEND;TZID=America/New_York:20240206T123000
DTSTAMP:20260421T062656
CREATED:20230728T172118Z
LAST-MODIFIED:20230728T172118Z
UID:258-1707217200-1707222600@www.nexus.every1graduates.org
SUMMARY:Agency\, feedback session
DESCRIPTION:Register Here: https://zoom.us/meeting/register/tJIrcuyvpj0pHdO0oJdPO6oVWwwCJcZWpfNv
URL:https://www.nexus.every1graduates.org/event/agency-feedback-session/
CATEGORIES:Agency
ORGANIZER;CN="Everyone Graduates Center":MAILTO:info@every1graduates.org
END:VEVENT
BEGIN:VEVENT
DTSTART;TZID=America/New_York:20231212T190000
DTEND;TZID=America/New_York:20231212T203000
DTSTAMP:20260421T062656
CREATED:20231018T174033Z
LAST-MODIFIED:20231018T174033Z
UID:481-1702407600-1702413000@www.nexus.every1graduates.org
SUMMARY:Combined A-B-C Session 2
DESCRIPTION:Register here: https://zoom.us/meeting/register/tJcucemrpjwsE9YpbGXv1ROj7JXZGd_fgJ7F
URL:https://www.nexus.every1graduates.org/event/combined-a-b-c-session-2/
CATEGORIES:Agency,Belonging,Connectedness
END:VEVENT
BEGIN:VEVENT
DTSTART;TZID=America/New_York:20231212T150000
DTEND;TZID=America/New_York:20231212T163000
DTSTAMP:20260421T062656
CREATED:20230728T171917Z
LAST-MODIFIED:20230728T171917Z
UID:256-1702393200-1702398600@www.nexus.every1graduates.org
SUMMARY:Connectedness\, session 3
DESCRIPTION:Register Here: https://zoom.us/meeting/register/tJAvc-GorzouEtWwcdvYguXDkZGJAbuYhdoX
URL:https://www.nexus.every1graduates.org/event/connectedness-session-3/
CATEGORIES:Connectedness
ORGANIZER;CN="Everyone Graduates Center":MAILTO:info@every1graduates.org
END:VEVENT
BEGIN:VEVENT
DTSTART;TZID=America/New_York:20231212T130000
DTEND;TZID=America/New_York:20231212T143000
DTSTAMP:20260421T062656
CREATED:20230728T171407Z
LAST-MODIFIED:20230728T171407Z
UID:250-1702386000-1702391400@www.nexus.every1graduates.org
SUMMARY:Belonging\, session 3
DESCRIPTION:Register Here: https://zoom.us/meeting/register/tJEsdOyoqTouHdN-AfuUJXNcNy4gU6Ygyly-
URL:https://www.nexus.every1graduates.org/event/belonging-session-3/
CATEGORIES:Belonging
END:VEVENT
BEGIN:VEVENT
DTSTART;TZID=America/New_York:20231212T110000
DTEND;TZID=America/New_York:20231212T123000
DTSTAMP:20260421T062656
CREATED:20230728T164411Z
LAST-MODIFIED:20230728T164446Z
UID:237-1702378800-1702384200@www.nexus.every1graduates.org
SUMMARY:Agency\, session 3
DESCRIPTION:Register Here: https://zoom.us/meeting/register/tJErf-Gppz8iH9DhQ63GYL-gnKnlbPfNO5eg
URL:https://www.nexus.every1graduates.org/event/agency-session-3/
CATEGORIES:Agency
ORGANIZER;CN="Everyone Graduates Center":MAILTO:info@every1graduates.org
END:VEVENT
BEGIN:VEVENT
DTSTART;TZID=America/New_York:20231114T190000
DTEND;TZID=America/New_York:20231114T203000
DTSTAMP:20260421T062656
CREATED:20231018T172705Z
LAST-MODIFIED:20231018T172705Z
UID:477-1699988400-1699993800@www.nexus.every1graduates.org
SUMMARY:Combined A-B-C Session
DESCRIPTION:Register here: https://zoom.us/j/96608349358?pwd=QjRZWWpKdVdGMUtJRmhTTmF4NWZsdz09 
URL:https://www.nexus.every1graduates.org/event/combined-a-b-c-session/
CATEGORIES:Agency,Belonging,Connectedness
END:VEVENT
BEGIN:VEVENT
DTSTART;TZID=America/New_York:20231114T150000
DTEND;TZID=America/New_York:20231114T163000
DTSTAMP:20260421T062656
CREATED:20230728T171822Z
LAST-MODIFIED:20230728T171822Z
UID:254-1699974000-1699979400@www.nexus.every1graduates.org
SUMMARY:Connectedness\, session 2
DESCRIPTION:Register Here: https://zoom.us/meeting/register/tJEvd-CsrjojH9INIWp0cqfSjuv0hRnnWOuS
URL:https://www.nexus.every1graduates.org/event/connectedness-session-2/
CATEGORIES:Connectedness
ORGANIZER;CN="Everyone Graduates Center":MAILTO:info@every1graduates.org
END:VEVENT
BEGIN:VEVENT
DTSTART;TZID=America/New_York:20231114T130000
DTEND;TZID=America/New_York:20231114T143000
DTSTAMP:20260421T062656
CREATED:20230728T171314Z
LAST-MODIFIED:20230728T171314Z
UID:248-1699966800-1699972200@www.nexus.every1graduates.org
SUMMARY:Belonging\, session 2
DESCRIPTION:Register Here: https://zoom.us/meeting/register/tJUkf-ypqDIsG91AoT1P-0lNw2rewk-pDGwc
URL:https://www.nexus.every1graduates.org/event/belonging-session-2/
CATEGORIES:Belonging
ORGANIZER;CN="Everyone Graduates Center":MAILTO:info@every1graduates.org
END:VEVENT
BEGIN:VEVENT
DTSTART;TZID=America/New_York:20231114T110000
DTEND;TZID=America/New_York:20231114T123000
DTSTAMP:20260421T062656
CREATED:20230728T164300Z
LAST-MODIFIED:20230728T164440Z
UID:235-1699959600-1699965000@www.nexus.every1graduates.org
SUMMARY:Agency\, session 2
DESCRIPTION:Register Here: https://zoom.us/meeting/register/tJUucuGgqzItHNc0CKsB6wohIfkDtf3N4Iws
URL:https://www.nexus.every1graduates.org/event/agency-session-2/
CATEGORIES:Agency
ORGANIZER;CN="Everyone Graduates Center":MAILTO:info@every1graduates.org
END:VEVENT
BEGIN:VEVENT
DTSTART;TZID=America/New_York:20231017T190000
DTEND;TZID=America/New_York:20231017T203000
DTSTAMP:20260421T062656
CREATED:20231003T185402Z
LAST-MODIFIED:20231003T190553Z
UID:468-1697569200-1697574600@www.nexus.every1graduates.org
SUMMARY:Agency\, session 1A
DESCRIPTION:Register here: https://zoom.us/meeting/register/tJIscuGhrTgsEtP8rtColKFjPm7zd_zxD2if
URL:https://www.nexus.every1graduates.org/event/agency-session-1-2/
CATEGORIES:Agency
ORGANIZER;CN="Everyone Graduates Center":MAILTO:info@every1graduates.org
END:VEVENT
BEGIN:VEVENT
DTSTART;TZID=America/New_York:20231017T150000
DTEND;TZID=America/New_York:20231017T163000
DTSTAMP:20260421T062656
CREATED:20230728T171730Z
LAST-MODIFIED:20230728T171730Z
UID:252-1697554800-1697560200@www.nexus.every1graduates.org
SUMMARY:Connectedness\, session 1
DESCRIPTION:Register Here: https://zoom.us/meeting/register/tJMldemvqTssGNUHTZ3_BxXWTqtkDQR7dz2Q
URL:https://www.nexus.every1graduates.org/event/connectedness-session-1/
CATEGORIES:Connectedness
ORGANIZER;CN="Everyone Graduates Center":MAILTO:info@every1graduates.org
END:VEVENT
BEGIN:VEVENT
DTSTART;TZID=America/New_York:20231017T130000
DTEND;TZID=America/New_York:20231017T143000
DTSTAMP:20260421T062656
CREATED:20230728T171204Z
LAST-MODIFIED:20230728T171217Z
UID:245-1697547600-1697553000@www.nexus.every1graduates.org
SUMMARY:Belonging\, session 1
DESCRIPTION:Register Here: https://zoom.us/meeting/register/tJIkdOGgqz4uHN1BnHaOpN_QLp-zV-rojKPW
URL:https://www.nexus.every1graduates.org/event/belonging-session-1/
CATEGORIES:Belonging
ORGANIZER;CN="Everyone Graduates Center":MAILTO:info@every1graduates.org
END:VEVENT
BEGIN:VEVENT
DTSTART;TZID=America/New_York:20231017T110000
DTEND;TZID=America/New_York:20231017T123000
DTSTAMP:20260421T062656
CREATED:20230728T164148Z
LAST-MODIFIED:20230728T164436Z
UID:233-1697540400-1697545800@www.nexus.every1graduates.org
SUMMARY:Agency\, session 1
DESCRIPTION:Register Here: https://zoom.us/meeting/register/tJUlf-Cqqj8pGtTvDgvsEcv_8UPPvbmX4tIi
URL:https://www.nexus.every1graduates.org/event/agency-session-1/
CATEGORIES:Agency
ORGANIZER;CN="Everyone Graduates Center":MAILTO:info@every1graduates.org
END:VEVENT
BEGIN:VEVENT
DTSTART;TZID=America/New_York:20230920T160000
DTEND;TZID=America/New_York:20230920T170000
DTSTAMP:20260421T062656
CREATED:20230728T163840Z
LAST-MODIFIED:20230728T165034Z
UID:230-1695225600-1695229200@www.nexus.every1graduates.org
SUMMARY:National School Redesign Showcase Informational Session
DESCRIPTION:Register Here: https://zoom.us/meeting/register/tJwkd-6grTwoGNJiDvTnFANGFIVBBLpHDG2H
URL:https://www.nexus.every1graduates.org/event/national-school-redesign-showcase-informational-session-2/
ORGANIZER;CN="Everyone Graduates Center":MAILTO:info@every1graduates.org
END:VEVENT
BEGIN:VEVENT
DTSTART;TZID=America/New_York:20230919T150000
DTEND;TZID=America/New_York:20230919T160000
DTSTAMP:20260421T062656
CREATED:20230713T190705Z
LAST-MODIFIED:20230728T165041Z
UID:140-1695135600-1695139200@www.nexus.every1graduates.org
SUMMARY:National School Redesign Showcase Informational Session
DESCRIPTION:Register Here: https://zoom.us/meeting/register/tJMkcOuqqDIoE9NI8YJcIvzuctkg1XXxF_kk
URL:https://www.nexus.every1graduates.org/event/national-school-redesign-showcase-informational-session/
ORGANIZER;CN="Everyone Graduates Center":MAILTO:info@every1graduates.org
END:VEVENT
END:VCALENDAR